BEGIN:VCALENDAR
VERSION:2.0
PRODID:-//eventon.com NONSGML v1.0//EN
CALSCALE:GREGORIAN
METHOD:PUBLISH
BEGIN:VEVENT
UID:69e5efddce8d7
DTSTAMP:20260420T092029Z
DTSTART:20260718T170000Z
DTEND:20260718T193000Z
LOCATION:
SUMMARY:Annual Patrons Concert - 2026
DESCRIPTION:Our annual patrons' concert at Swansea Minster - tickets will b
 e on sale later in the year\nhttps://dunvantchoir.wales/events/annual-patro
 ns-concert-2026/
URL:https://dunvantchoir.wales/events/annual-patrons-concert-2026/
END:VEVENT
END:VCALENDAR