BEGIN:VCALENDAR
VERSION:2.0
PRODID:-//eventon.com NONSGML v1.0//EN
CALSCALE:GREGORIAN
METHOD:PUBLISH
BEGIN:VEVENT
UID:69e5f13694596
DTSTAMP:20260420T092614Z
DTSTART:20260627T190000Z
DTEND:20260627T213000Z
LOCATION:
SUMMARY:WAMC Liverpool Concert
DESCRIPTION:The Welsh Association of Male Choirs is organising a massed Mal
 e Choir concert to be held at the Anglican Cathedral\,  Liverpool on Saturd
 ay\,  27th June 2026.\nhttps://dunvantchoir.wales/events/wamc-liverpool-con
 cert/
URL:https://dunvantchoir.wales/events/wamc-liverpool-concert/
END:VEVENT
END:VCALENDAR