BEGIN:VCALENDAR
VERSION:2.0
PRODID:-//eventon.com NONSGML v1.0//EN
CALSCALE:GREGORIAN
METHOD:PUBLISH
BEGIN:VEVENT
UID:69e8a94a35fc9
DTSTAMP:20260422T105610Z
DTSTART:20260322T130000Z
DTEND:20260322T160000Z
LOCATION:
SUMMARY:WAMC Liverpool Concert Rehearsal
DESCRIPTION:Multi choir rehearsal for Liverpool concert\nhttps://dunvantcho
 ir.wales/events/wamc-liverpool-concert-rehearsal/
URL:https://dunvantchoir.wales/events/wamc-liverpool-concert-rehearsal/
END:VEVENT
END:VCALENDAR