BEGIN:VCALENDAR
VERSION:2.0
PRODID:-//eventon.com NONSGML v1.0//EN
CALSCALE:GREGORIAN
METHOD:PUBLISH
BEGIN:VEVENT
UID:69e65c2da47ae
DTSTAMP:20260420T170237Z
DTSTART:20260318T190000Z
DTEND:20260318T210000Z
LOCATION:
SUMMARY:Choir Annual General Meeting
DESCRIPTION:Choir Annual General Meeting\nhttps://dunvantchoir.wales/events
 /choir-annual-general-meeting/
URL:https://dunvantchoir.wales/events/choir-annual-general-meeting/
END:VEVENT
END:VCALENDAR