BEGIN:VCALENDAR
VERSION:2.0
PRODID:-//eventon.com NONSGML v1.0//EN
CALSCALE:GREGORIAN
METHOD:PUBLISH
BEGIN:VEVENT
UID:69e643bbe87d9
DTSTAMP:20260420T151819Z
DTSTART:20260320T190000Z
DTEND:20260320T220000Z
LOCATION:
SUMMARY:Young Singer of the Year 2026 - Final
DESCRIPTION:Young Singer of the Year Finals Start Time: 7pm Tickets on sale
  at £10 pp Finalists Samira Al Barwani Max Morris Autumn Moloney Charlotte
  Rose Buy tickets\nhttps://dunvantchoir.wales/events/young-singer-of-teh-ye
 ar-2026-final/
URL:https://dunvantchoir.wales/events/young-singer-of-teh-year-2026-final/
END:VEVENT
END:VCALENDAR